BEGIN:VCALENDAR
VERSION:2.0
PRODID:-//Pittsburgh Community Services Inc. - ECPv6.15.20//NONSGML v1.0//EN
CALSCALE:GREGORIAN
METHOD:PUBLISH
X-WR-CALNAME:Pittsburgh Community Services Inc.
X-ORIGINAL-URL:https://pghcsi.org
X-WR-CALDESC:Events for Pittsburgh Community Services Inc.
REFRESH-INTERVAL;VALUE=DURATION:PT1H
X-Robots-Tag:noindex
X-PUBLISHED-TTL:PT1H
BEGIN:VTIMEZONE
TZID:America/New_York
BEGIN:DAYLIGHT
TZOFFSETFROM:-0500
TZOFFSETTO:-0400
TZNAME:EDT
DTSTART:20250309T070000
END:DAYLIGHT
BEGIN:STANDARD
TZOFFSETFROM:-0400
TZOFFSETTO:-0500
TZNAME:EST
DTSTART:20251102T060000
END:STANDARD
BEGIN:DAYLIGHT
TZOFFSETFROM:-0500
TZOFFSETTO:-0400
TZNAME:EDT
DTSTART:20260308T070000
END:DAYLIGHT
BEGIN:STANDARD
TZOFFSETFROM:-0400
TZOFFSETTO:-0500
TZNAME:EST
DTSTART:20261101T060000
END:STANDARD
BEGIN:DAYLIGHT
TZOFFSETFROM:-0500
TZOFFSETTO:-0400
TZNAME:EDT
DTSTART:20270314T070000
END:DAYLIGHT
BEGIN:STANDARD
TZOFFSETFROM:-0400
TZOFFSETTO:-0500
TZNAME:EST
DTSTART:20271107T060000
END:STANDARD
END:VTIMEZONE
BEGIN:VEVENT
DTSTART;TZID=America/New_York:20260420T130000
DTEND;TZID=America/New_York:20260420T150000
DTSTAMP:20260419T101413
CREATED:20260406T144952Z
LAST-MODIFIED:20260406T144952Z
UID:10000821-1776690000-1776697200@pghcsi.org
SUMMARY:Build Your Math Skills Workshop
DESCRIPTION:Great preparation for:\n\nTrade apprenticeships\nFinancial planning\nWorkplace advancement\nDaily money management\n\nAll levels welcome! We’ll start at your level. \nQuestions?\nEmail markp@pghcsi.org or call 412-904-4700. \nDownload the event flyer here.
URL:https://pghcsi.org/event/build-your-math-skills-workshop-2/2026-04-20/
LOCATION:Pittsburgh Community Services Inc.\, 249 N. Craig St.\, Pittsburgh\, PA\, 15213\, United States
CATEGORIES:PCSI Workshops
END:VEVENT
BEGIN:VEVENT
DTSTART;TZID=America/New_York:20260421T123000
DTEND;TZID=America/New_York:20260421T140000
DTSTAMP:20260419T101413
CREATED:20260113T191206Z
LAST-MODIFIED:20260129T152108Z
UID:10000791-1776774600-1776780000@pghcsi.org
SUMMARY:Healthy Parenting Program
DESCRIPTION:OPEN TRIPLE P PARENTING GROUP IN COLLABORATION WITH PCSI \nParenting is Hard. You are not alone! \nFREE\, six-week series of Triple P Positive Parenting group sessions – no income requirements \nSessions will be held at PCSI’s office on Tuesdays\, 12:30 PM to 2:00 PM\, for six weeks starting March 24 through April 28\, 2026 \nCall Healthy Parenting to Register: 412-650-0455 or fill out our online registration form. \nPresented by: A Child’s Place\, PA – Healthy Parenting Program \nHosted by: Pittsburgh Community Services\, Inc.
URL:https://pghcsi.org/event/healthy-parenting-program-2/2026-04-21/
LOCATION:Pittsburgh Community Services Inc.\, 249 N. Craig St.\, Pittsburgh\, PA\, 15213\, United States
CATEGORIES:Partner Events
END:VEVENT
BEGIN:VEVENT
DTSTART;TZID=America/New_York:20260421T180000
DTEND;TZID=America/New_York:20260421T200000
DTSTAMP:20260419T101413
CREATED:20260331T190551Z
LAST-MODIFIED:20260331T190551Z
UID:10000818-1776794400-1776801600@pghcsi.org
SUMMARY:PCSI Quarterly Board Meeting
DESCRIPTION:PCSI will hold its quarterly board meeting on Tuesday\, April 21\, 2026 at 6 PM. The meeting will be held in person at PCSI’s building located at 249 North Craig Street\, Pittsburgh\, PA 15213. \nAll PCSI board meetings are free and open to the staff and general public. General public attendance must be confirmed in advance to ensure adequate space accommodation. \nIf you plan to attend the upcoming board meeting\, please send us a message using our contact form on the Contact Us page.
URL:https://pghcsi.org/event/pcsi-quarterly-board-meeting-4/
LOCATION:Pittsburgh Community Services Inc.\, 249 N. Craig St.\, Pittsburgh\, PA\, 15213\, United States
CATEGORIES:PCSI Board Meetings
END:VEVENT
BEGIN:VEVENT
DTSTART;TZID=America/New_York:20260422T130000
DTEND;TZID=America/New_York:20260422T150000
DTSTAMP:20260419T101413
CREATED:20260406T144952Z
LAST-MODIFIED:20260406T144952Z
UID:10000822-1776862800-1776870000@pghcsi.org
SUMMARY:Build Your Math Skills Workshop
DESCRIPTION:Great preparation for:\n\nTrade apprenticeships\nFinancial planning\nWorkplace advancement\nDaily money management\n\nAll levels welcome! We’ll start at your level. \nQuestions?\nEmail markp@pghcsi.org or call 412-904-4700. \nDownload the event flyer here.
URL:https://pghcsi.org/event/build-your-math-skills-workshop-2/2026-04-22/
LOCATION:Pittsburgh Community Services Inc.\, 249 N. Craig St.\, Pittsburgh\, PA\, 15213\, United States
CATEGORIES:PCSI Workshops
END:VEVENT
BEGIN:VEVENT
DTSTART;TZID=America/New_York:20260428T110000
DTEND;TZID=America/New_York:20260428T120000
DTSTAMP:20260419T101413
CREATED:20260113T181730Z
LAST-MODIFIED:20260113T181730Z
UID:10000692-1777374000-1777377600@pghcsi.org
SUMMARY:Resume Building Workshop
DESCRIPTION:Come to PSCI to learn how to master the basics of resume writing and build your own personalized resume. \nHeld on the fourth Tuesday of every month in 2026 (except November and December) from 11:00 AM – 12:00 PM. \nOpen to City of Pittsburgh residents over the age of 18. All PCSI workshops are free. \nContact Mark Petrovich for more information or to register.
URL:https://pghcsi.org/event/resume-building-workshop/2026-04-28/
LOCATION:Pittsburgh Community Services Inc.\, 249 N. Craig St.\, Pittsburgh\, PA\, 15213\, United States
CATEGORIES:PCSI Workshops
END:VEVENT
BEGIN:VEVENT
DTSTART;TZID=America/New_York:20260428T123000
DTEND;TZID=America/New_York:20260428T140000
DTSTAMP:20260419T101413
CREATED:20260113T191206Z
LAST-MODIFIED:20260129T152108Z
UID:10000792-1777379400-1777384800@pghcsi.org
SUMMARY:Healthy Parenting Program
DESCRIPTION:OPEN TRIPLE P PARENTING GROUP IN COLLABORATION WITH PCSI \nParenting is Hard. You are not alone! \nFREE\, six-week series of Triple P Positive Parenting group sessions – no income requirements \nSessions will be held at PCSI’s office on Tuesdays\, 12:30 PM to 2:00 PM\, for six weeks starting March 24 through April 28\, 2026 \nCall Healthy Parenting to Register: 412-650-0455 or fill out our online registration form. \nPresented by: A Child’s Place\, PA – Healthy Parenting Program \nHosted by: Pittsburgh Community Services\, Inc.
URL:https://pghcsi.org/event/healthy-parenting-program-2/2026-04-28/
LOCATION:Pittsburgh Community Services Inc.\, 249 N. Craig St.\, Pittsburgh\, PA\, 15213\, United States
CATEGORIES:Partner Events
END:VEVENT
BEGIN:VEVENT
DTSTART;TZID=America/New_York:20260428T130000
DTEND;TZID=America/New_York:20260428T140000
DTSTAMP:20260419T101413
CREATED:20260113T181224Z
LAST-MODIFIED:20260113T181425Z
UID:10000672-1777381200-1777384800@pghcsi.org
SUMMARY:Interview Prep Workshop
DESCRIPTION:Come to PSCI to learn the ins and outs of successful job interviewing.  You will learn how to prepare for a job interview so you will feel more confident and in control for your next interview. \nHeld on the fourth Tuesday of every month in 2026 (except November and December) from 1:00 – 2:00 PM. \nOpen to City of Pittsburgh residents over the age of 18. All PCSI workshops are free. \nContact Mark Petrovich for more information or to register.
URL:https://pghcsi.org/event/interview-prep-workshop/2026-04-28/
LOCATION:Pittsburgh Community Services Inc.\, 249 N. Craig St.\, Pittsburgh\, PA\, 15213\, United States
CATEGORIES:PCSI Workshops
END:VEVENT
BEGIN:VEVENT
DTSTART;TZID=America/New_York:20260429T100000
DTEND;TZID=America/New_York:20260429T130000
DTSTAMP:20260419T101413
CREATED:20260406T145702Z
LAST-MODIFIED:20260415T185700Z
UID:10000823-1777456800-1777467600@pghcsi.org
SUMMARY:CPR and First Aid/AED Training
DESCRIPTION:Empower Yourself. Save a Life. Strengthen Our Community.\n\nBlended Course-Online portion must be completed prior to the in-person session.\nRegistration is required.\nEarn 2-Year Red Cross Certification\nFREE for current PCSI clients.\n\n* Not a current client? No worries\, call the number below for more information.\n\n\n\nHow to Register\n\nCall 412-904-4700 or\nvisit https://form.jotform.com/260644419852159.\n\n\nDownload the event flyer.
URL:https://pghcsi.org/event/cpr-and-first-aid-aed-training-2/
LOCATION:Pittsburgh Community Services Inc.\, 249 N. Craig St.\, Pittsburgh\, PA\, 15213\, United States
CATEGORIES:PCSI Workshops
END:VEVENT
END:VCALENDAR