BEGIN:VCALENDAR
VERSION:2.0
PRODID:-//Pittsburgh Community Services Inc. - ECPv6.15.20//NONSGML v1.0//EN
CALSCALE:GREGORIAN
METHOD:PUBLISH
X-ORIGINAL-URL:https://pghcsi.org
X-WR-CALDESC:Events for Pittsburgh Community Services Inc.
REFRESH-INTERVAL;VALUE=DURATION:PT1H
X-Robots-Tag:noindex
X-PUBLISHED-TTL:PT1H
BEGIN:VTIMEZONE
TZID:America/New_York
BEGIN:DAYLIGHT
TZOFFSETFROM:-0500
TZOFFSETTO:-0400
TZNAME:EDT
DTSTART:20240310T070000
END:DAYLIGHT
BEGIN:STANDARD
TZOFFSETFROM:-0400
TZOFFSETTO:-0500
TZNAME:EST
DTSTART:20241103T060000
END:STANDARD
BEGIN:DAYLIGHT
TZOFFSETFROM:-0500
TZOFFSETTO:-0400
TZNAME:EDT
DTSTART:20250309T070000
END:DAYLIGHT
BEGIN:STANDARD
TZOFFSETFROM:-0400
TZOFFSETTO:-0500
TZNAME:EST
DTSTART:20251102T060000
END:STANDARD
BEGIN:DAYLIGHT
TZOFFSETFROM:-0500
TZOFFSETTO:-0400
TZNAME:EDT
DTSTART:20260308T070000
END:DAYLIGHT
BEGIN:STANDARD
TZOFFSETFROM:-0400
TZOFFSETTO:-0500
TZNAME:EST
DTSTART:20261101T060000
END:STANDARD
BEGIN:DAYLIGHT
TZOFFSETFROM:-0500
TZOFFSETTO:-0400
TZNAME:EDT
DTSTART:20270314T070000
END:DAYLIGHT
BEGIN:STANDARD
TZOFFSETFROM:-0400
TZOFFSETTO:-0500
TZNAME:EST
DTSTART:20271107T060000
END:STANDARD
END:VTIMEZONE
BEGIN:VEVENT
DTSTART;TZID=America/New_York:20260414T123000
DTEND;TZID=America/New_York:20260414T140000
DTSTAMP:20260419T202859
CREATED:20260113T191206Z
LAST-MODIFIED:20260129T152108Z
UID:10000790-1776169800-1776175200@pghcsi.org
SUMMARY:Healthy Parenting Program
DESCRIPTION:OPEN TRIPLE P PARENTING GROUP IN COLLABORATION WITH PCSI \nParenting is Hard. You are not alone! \nFREE\, six-week series of Triple P Positive Parenting group sessions – no income requirements \nSessions will be held at PCSI’s office on Tuesdays\, 12:30 PM to 2:00 PM\, for six weeks starting March 24 through April 28\, 2026 \nCall Healthy Parenting to Register: 412-650-0455 or fill out our online registration form. \nPresented by: A Child’s Place\, PA – Healthy Parenting Program \nHosted by: Pittsburgh Community Services\, Inc.
URL:https://pghcsi.org/event/healthy-parenting-program-2/2026-04-14/
LOCATION:Pittsburgh Community Services Inc.\, 249 N. Craig St.\, Pittsburgh\, PA\, 15213\, United States
CATEGORIES:Partner Events
END:VEVENT
BEGIN:VEVENT
DTSTART;TZID=America/New_York:20260407T123000
DTEND;TZID=America/New_York:20260407T140000
DTSTAMP:20260419T202859
CREATED:20260113T191206Z
LAST-MODIFIED:20260129T152108Z
UID:10000789-1775565000-1775570400@pghcsi.org
SUMMARY:Healthy Parenting Program
DESCRIPTION:OPEN TRIPLE P PARENTING GROUP IN COLLABORATION WITH PCSI \nParenting is Hard. You are not alone! \nFREE\, six-week series of Triple P Positive Parenting group sessions – no income requirements \nSessions will be held at PCSI’s office on Tuesdays\, 12:30 PM to 2:00 PM\, for six weeks starting March 24 through April 28\, 2026 \nCall Healthy Parenting to Register: 412-650-0455 or fill out our online registration form. \nPresented by: A Child’s Place\, PA – Healthy Parenting Program \nHosted by: Pittsburgh Community Services\, Inc.
URL:https://pghcsi.org/event/healthy-parenting-program-2/2026-04-07/
LOCATION:Pittsburgh Community Services Inc.\, 249 N. Craig St.\, Pittsburgh\, PA\, 15213\, United States
CATEGORIES:Partner Events
END:VEVENT
BEGIN:VEVENT
DTSTART;TZID=America/New_York:20260331T123000
DTEND;TZID=America/New_York:20260331T140000
DTSTAMP:20260419T202859
CREATED:20260113T191206Z
LAST-MODIFIED:20260129T152108Z
UID:10000788-1774960200-1774965600@pghcsi.org
SUMMARY:Healthy Parenting Program
DESCRIPTION:OPEN TRIPLE P PARENTING GROUP IN COLLABORATION WITH PCSI \nParenting is Hard. You are not alone! \nFREE\, six-week series of Triple P Positive Parenting group sessions – no income requirements \nSessions will be held at PCSI’s office on Tuesdays\, 12:30 PM to 2:00 PM\, for six weeks starting March 24 through April 28\, 2026 \nCall Healthy Parenting to Register: 412-650-0455 or fill out our online registration form. \nPresented by: A Child’s Place\, PA – Healthy Parenting Program \nHosted by: Pittsburgh Community Services\, Inc.
URL:https://pghcsi.org/event/healthy-parenting-program-2/2026-03-31/
LOCATION:Pittsburgh Community Services Inc.\, 249 N. Craig St.\, Pittsburgh\, PA\, 15213\, United States
CATEGORIES:Partner Events
END:VEVENT
BEGIN:VEVENT
DTSTART;TZID=America/New_York:20260324T123000
DTEND;TZID=America/New_York:20260324T140000
DTSTAMP:20260419T202859
CREATED:20260113T191206Z
LAST-MODIFIED:20260129T152108Z
UID:10000787-1774355400-1774360800@pghcsi.org
SUMMARY:Healthy Parenting Program
DESCRIPTION:OPEN TRIPLE P PARENTING GROUP IN COLLABORATION WITH PCSI \nParenting is Hard. You are not alone! \nFREE\, six-week series of Triple P Positive Parenting group sessions – no income requirements \nSessions will be held at PCSI’s office on Tuesdays\, 12:30 PM to 2:00 PM\, for six weeks starting March 24 through April 28\, 2026 \nCall Healthy Parenting to Register: 412-650-0455 or fill out our online registration form. \nPresented by: A Child’s Place\, PA – Healthy Parenting Program \nHosted by: Pittsburgh Community Services\, Inc.
URL:https://pghcsi.org/event/healthy-parenting-program-2/2026-03-24/
LOCATION:Pittsburgh Community Services Inc.\, 249 N. Craig St.\, Pittsburgh\, PA\, 15213\, United States
CATEGORIES:Partner Events
END:VEVENT
BEGIN:VEVENT
DTSTART;TZID=America/New_York:20251028T123000
DTEND;TZID=America/New_York:20251028T140000
DTSTAMP:20260419T202859
CREATED:20250917T143053Z
LAST-MODIFIED:20250917T204436Z
UID:10000610-1761654600-1761660000@pghcsi.org
SUMMARY:Healthy Parenting Program
DESCRIPTION:Parenting is Hard. You are not alone! \nPCSI is offering a FREE\, six-week series of Healthy Parenting Program \nin colloboration with A Child’s Place. \nGroup sessions – no income requirements \nSessions will be held on Tuesdays\, 12:30pm to 2pm\, for six weeks\nstarting Sept 23 2025 until October 28\, 2025 \nClick here to register \nIf you have any questions call 412 904 4700
URL:https://pghcsi.org/event/healthy-parenting-program/2025-10-28/
LOCATION:Pittsburgh Community Services Inc.\, 249 N. Craig St.\, Pittsburgh\, PA\, 15213\, United States
CATEGORIES:PCSI Workshops
END:VEVENT
BEGIN:VEVENT
DTSTART;TZID=America/New_York:20251021T123000
DTEND;TZID=America/New_York:20251021T140000
DTSTAMP:20260419T202859
CREATED:20250917T143053Z
LAST-MODIFIED:20250917T204436Z
UID:10000609-1761049800-1761055200@pghcsi.org
SUMMARY:Healthy Parenting Program
DESCRIPTION:Parenting is Hard. You are not alone! \nPCSI is offering a FREE\, six-week series of Healthy Parenting Program \nin colloboration with A Child’s Place. \nGroup sessions – no income requirements \nSessions will be held on Tuesdays\, 12:30pm to 2pm\, for six weeks\nstarting Sept 23 2025 until October 28\, 2025 \nClick here to register \nIf you have any questions call 412 904 4700
URL:https://pghcsi.org/event/healthy-parenting-program/2025-10-21/
LOCATION:Pittsburgh Community Services Inc.\, 249 N. Craig St.\, Pittsburgh\, PA\, 15213\, United States
CATEGORIES:PCSI Workshops
END:VEVENT
BEGIN:VEVENT
DTSTART;TZID=America/New_York:20251014T123000
DTEND;TZID=America/New_York:20251014T140000
DTSTAMP:20260419T202859
CREATED:20250917T143053Z
LAST-MODIFIED:20250917T204436Z
UID:10000608-1760445000-1760450400@pghcsi.org
SUMMARY:Healthy Parenting Program
DESCRIPTION:Parenting is Hard. You are not alone! \nPCSI is offering a FREE\, six-week series of Healthy Parenting Program \nin colloboration with A Child’s Place. \nGroup sessions – no income requirements \nSessions will be held on Tuesdays\, 12:30pm to 2pm\, for six weeks\nstarting Sept 23 2025 until October 28\, 2025 \nClick here to register \nIf you have any questions call 412 904 4700
URL:https://pghcsi.org/event/healthy-parenting-program/2025-10-14/
LOCATION:Pittsburgh Community Services Inc.\, 249 N. Craig St.\, Pittsburgh\, PA\, 15213\, United States
CATEGORIES:PCSI Workshops
END:VEVENT
BEGIN:VEVENT
DTSTART;TZID=America/New_York:20251007T123000
DTEND;TZID=America/New_York:20251007T140000
DTSTAMP:20260419T202859
CREATED:20250917T143053Z
LAST-MODIFIED:20250917T204436Z
UID:10000607-1759840200-1759845600@pghcsi.org
SUMMARY:Healthy Parenting Program
DESCRIPTION:Parenting is Hard. You are not alone! \nPCSI is offering a FREE\, six-week series of Healthy Parenting Program \nin colloboration with A Child’s Place. \nGroup sessions – no income requirements \nSessions will be held on Tuesdays\, 12:30pm to 2pm\, for six weeks\nstarting Sept 23 2025 until October 28\, 2025 \nClick here to register \nIf you have any questions call 412 904 4700
URL:https://pghcsi.org/event/healthy-parenting-program/2025-10-07/
LOCATION:Pittsburgh Community Services Inc.\, 249 N. Craig St.\, Pittsburgh\, PA\, 15213\, United States
CATEGORIES:PCSI Workshops
END:VEVENT
BEGIN:VEVENT
DTSTART;TZID=America/New_York:20250930T123000
DTEND;TZID=America/New_York:20250930T140000
DTSTAMP:20260419T202859
CREATED:20250917T143053Z
LAST-MODIFIED:20250917T204436Z
UID:10000606-1759235400-1759240800@pghcsi.org
SUMMARY:Healthy Parenting Program
DESCRIPTION:Parenting is Hard. You are not alone! \nPCSI is offering a FREE\, six-week series of Healthy Parenting Program \nin colloboration with A Child’s Place. \nGroup sessions – no income requirements \nSessions will be held on Tuesdays\, 12:30pm to 2pm\, for six weeks\nstarting Sept 23 2025 until October 28\, 2025 \nClick here to register \nIf you have any questions call 412 904 4700
URL:https://pghcsi.org/event/healthy-parenting-program/2025-09-30/
LOCATION:Pittsburgh Community Services Inc.\, 249 N. Craig St.\, Pittsburgh\, PA\, 15213\, United States
CATEGORIES:PCSI Workshops
END:VEVENT
BEGIN:VEVENT
DTSTART;TZID=America/New_York:20250923T123000
DTEND;TZID=America/New_York:20250923T140000
DTSTAMP:20260419T202859
CREATED:20250917T143053Z
LAST-MODIFIED:20250917T204436Z
UID:10000605-1758630600-1758636000@pghcsi.org
SUMMARY:Healthy Parenting Program
DESCRIPTION:Parenting is Hard. You are not alone! \nPCSI is offering a FREE\, six-week series of Healthy Parenting Program \nin colloboration with A Child’s Place. \nGroup sessions – no income requirements \nSessions will be held on Tuesdays\, 12:30pm to 2pm\, for six weeks\nstarting Sept 23 2025 until October 28\, 2025 \nClick here to register \nIf you have any questions call 412 904 4700
URL:https://pghcsi.org/event/healthy-parenting-program/2025-09-23/
LOCATION:Pittsburgh Community Services Inc.\, 249 N. Craig St.\, Pittsburgh\, PA\, 15213\, United States
CATEGORIES:PCSI Workshops
END:VEVENT
BEGIN:VEVENT
DTSTART;TZID=America/New_York:20250610T130000
DTEND;TZID=America/New_York:20250610T140000
DTSTAMP:20260419T202859
CREATED:20250402T134502Z
LAST-MODIFIED:20250408T202920Z
UID:10000132-1749560400-1749564000@pghcsi.org
SUMMARY:Healthy Parenting Program with A Child's Place
DESCRIPTION:Parenting is Hard! You are not alone! \nEnroll in this six-weeks series to learn about healthy and effective parenting. Open to parents and caregivers of children under 18. \nBus passes and child care available. Incentives for completing the series! \nScan the QR Code on the flyer to sign up\, or go to: jotform.com/250915296124154 \nPSCI Group Flyer 2025
URL:https://pghcsi.org/event/positive-parenting-program/2025-06-10/
LOCATION:Pittsburgh Community Services Inc.\, 249 N. Craig St.\, Pittsburgh\, PA\, 15213\, United States
CATEGORIES:PCSI Workshops
END:VEVENT
BEGIN:VEVENT
DTSTART;TZID=America/New_York:20250603T130000
DTEND;TZID=America/New_York:20250603T140000
DTSTAMP:20260419T202859
CREATED:20250402T134502Z
LAST-MODIFIED:20250408T202920Z
UID:10000131-1748955600-1748959200@pghcsi.org
SUMMARY:Healthy Parenting Program with A Child's Place
DESCRIPTION:Parenting is Hard! You are not alone! \nEnroll in this six-weeks series to learn about healthy and effective parenting. Open to parents and caregivers of children under 18. \nBus passes and child care available. Incentives for completing the series! \nScan the QR Code on the flyer to sign up\, or go to: jotform.com/250915296124154 \nPSCI Group Flyer 2025
URL:https://pghcsi.org/event/positive-parenting-program/2025-06-03/
LOCATION:Pittsburgh Community Services Inc.\, 249 N. Craig St.\, Pittsburgh\, PA\, 15213\, United States
CATEGORIES:PCSI Workshops
END:VEVENT
BEGIN:VEVENT
DTSTART;TZID=America/New_York:20250527T130000
DTEND;TZID=America/New_York:20250527T140000
DTSTAMP:20260419T202859
CREATED:20250402T134502Z
LAST-MODIFIED:20250408T202920Z
UID:10000130-1748350800-1748354400@pghcsi.org
SUMMARY:Healthy Parenting Program with A Child's Place
DESCRIPTION:Parenting is Hard! You are not alone! \nEnroll in this six-weeks series to learn about healthy and effective parenting. Open to parents and caregivers of children under 18. \nBus passes and child care available. Incentives for completing the series! \nScan the QR Code on the flyer to sign up\, or go to: jotform.com/250915296124154 \nPSCI Group Flyer 2025
URL:https://pghcsi.org/event/positive-parenting-program/2025-05-27/
LOCATION:Pittsburgh Community Services Inc.\, 249 N. Craig St.\, Pittsburgh\, PA\, 15213\, United States
CATEGORIES:PCSI Workshops
END:VEVENT
BEGIN:VEVENT
DTSTART;TZID=America/New_York:20250520T130000
DTEND;TZID=America/New_York:20250520T140000
DTSTAMP:20260419T202859
CREATED:20250402T134502Z
LAST-MODIFIED:20250408T202920Z
UID:10000129-1747746000-1747749600@pghcsi.org
SUMMARY:Healthy Parenting Program with A Child's Place
DESCRIPTION:Parenting is Hard! You are not alone! \nEnroll in this six-weeks series to learn about healthy and effective parenting. Open to parents and caregivers of children under 18. \nBus passes and child care available. Incentives for completing the series! \nScan the QR Code on the flyer to sign up\, or go to: jotform.com/250915296124154 \nPSCI Group Flyer 2025
URL:https://pghcsi.org/event/positive-parenting-program/2025-05-20/
LOCATION:Pittsburgh Community Services Inc.\, 249 N. Craig St.\, Pittsburgh\, PA\, 15213\, United States
CATEGORIES:PCSI Workshops
END:VEVENT
BEGIN:VEVENT
DTSTART;TZID=America/New_York:20250513T130000
DTEND;TZID=America/New_York:20250513T140000
DTSTAMP:20260419T202859
CREATED:20250402T134502Z
LAST-MODIFIED:20250408T202920Z
UID:10000128-1747141200-1747144800@pghcsi.org
SUMMARY:Healthy Parenting Program with A Child's Place
DESCRIPTION:Parenting is Hard! You are not alone! \nEnroll in this six-weeks series to learn about healthy and effective parenting. Open to parents and caregivers of children under 18. \nBus passes and child care available. Incentives for completing the series! \nScan the QR Code on the flyer to sign up\, or go to: jotform.com/250915296124154 \nPSCI Group Flyer 2025
URL:https://pghcsi.org/event/positive-parenting-program/2025-05-13/
LOCATION:Pittsburgh Community Services Inc.\, 249 N. Craig St.\, Pittsburgh\, PA\, 15213\, United States
CATEGORIES:PCSI Workshops
END:VEVENT
BEGIN:VEVENT
DTSTART;TZID=America/New_York:20250506T130000
DTEND;TZID=America/New_York:20250506T140000
DTSTAMP:20260419T202859
CREATED:20250402T134502Z
LAST-MODIFIED:20250408T202920Z
UID:10000127-1746536400-1746540000@pghcsi.org
SUMMARY:Healthy Parenting Program with A Child's Place
DESCRIPTION:Parenting is Hard! You are not alone! \nEnroll in this six-weeks series to learn about healthy and effective parenting. Open to parents and caregivers of children under 18. \nBus passes and child care available. Incentives for completing the series! \nScan the QR Code on the flyer to sign up\, or go to: jotform.com/250915296124154 \nPSCI Group Flyer 2025
URL:https://pghcsi.org/event/positive-parenting-program/2025-05-06/
LOCATION:Pittsburgh Community Services Inc.\, 249 N. Craig St.\, Pittsburgh\, PA\, 15213\, United States
CATEGORIES:PCSI Workshops
END:VEVENT
END:VCALENDAR